BEGIN:VCALENDAR
VERSION:2.0
PRODID:-//wp-events-plugin.com//7.2.3.1//EN
TZID:Europe/Berlin
X-WR-TIMEZONE:Europe/Berlin
BEGIN:VEVENT
UID:54@heikesescapes.eu
DTSTART;TZID=Europe/Berlin:20210508T100000
DTEND;TZID=Europe/Berlin:20210508T170000
DTSTAMP:20210506T081508Z
URL:https://www.heikesescapes.eu/veranstaltungen/maedelstour-fuer-anfaenge
 rinnen-u-wiedereinsteigerinnen-buddy-tour/
SUMMARY:Mädelstour für Anfängerinnen u. Wiedereinsteigerinnen/Buddy Tour
DESCRIPTION:\n\nMädelstour für Anfängerinnen/Wiedereinsteigerinnen\n\nda
  ich genau weiß wie es ist und wie man sich fühlt\, wenn man mit einer G
 ruppe Motorradfahrern unterwegs ist und denkt\, man ist ein „Bremsklotz
 “. Dabei fehlt ja dem Grunde nach nur die nötige Fahrpraxis und der ein
  oder andere Tip (meistens jedenfalls \;-)).\n\nGerne möchte ich mit euch
  zusammen genau das „üben“.\n\nIn einer Gruppe\, von der man weiß\, 
 das ALLE mehr oder weniger auf dem gleichen fahrerischen Stand sind.\n\nDi
 e Tour beträgt ca 150 bis max. 200 km. Die Gruppengröße wird max. 5 Tei
 lnehmerinnen betragen.\n\nKaffee und Kuchen incl.
ATTACH;FMTTYPE=image/jpeg:https://www.heikesescapes.eu/wp-content/uploads/
 2020/06/20201206_102035-1.jpg
CATEGORIES:Ladys only Touren &amp; Trainings,Touren &amp; Events
LOCATION:ARAL Tankstelle Babenhausen\, Aschaffenburger Str. 3\, Babenhausen
 \, Hessen\, 64832\, Landkreis Darmstadt-Dieburg\, Deutschland
GEO:49.957433;8.958327
X-APPLE-STRUCTURED-LOCATION;VALUE=URI;X-ADDRESS=Aschaffenburger Str. 3\, Ba
 benhausen\, Hessen\, 64832\, Landkreis Darmstadt-Dieburg\, Deutschland;X-A
 PPLE-RADIUS=100;X-TITLE=ARAL Tankstelle Babenhausen:geo:49.957433,8.958327
END:VEVENT
BEGIN:VTIMEZONE
TZID:Europe/Berlin
X-LIC-LOCATION:Europe/Berlin
BEGIN:DAYLIGHT
DTSTART:20210328T030000
TZOFFSETFROM:+0100
TZOFFSETTO:+0200
TZNAME:CEST
END:DAYLIGHT
END:VTIMEZONE
END:VCALENDAR