BEGIN:VCALENDAR
VERSION:2.0
PRODID:-//wp-events-plugin.com//7.2.3.1//EN
TZID:Europe/Berlin
X-WR-TIMEZONE:Europe/Berlin
BEGIN:VEVENT
UID:44@heikesescapes.eu
DTSTART;TZID=Europe/Berlin:20220101T000000
DTEND;TZID=Europe/Berlin:20221231T000000
DTSTAMP:20221021T073202Z
URL:https://www.heikesescapes.eu/veranstaltungen/individuelles-einzeltrain
 ing-mit-mike-caspers-oder-rolf-schiebenes/
SUMMARY:individuelle Einzeltrainings On oder Off-Road
DESCRIPTION:Für wen ist das Personal Biker Training interessant?\n\n\n\n\n
 \n&nbsp\;\n\n...für alle\, die nach längerer Pause wieder mit diesem sch
 önen Hobby starten möchten\n\n...für alle\, die noch mit mehr Freude k
 ünftig auf der „Piste“ unterwegs sein wollen\, egal ob „On- Road“
  oder „ Off-Road\n...für alle\, die künftig sicherer unterwegs sein m
 öchten\n...für alle\, die sich mehr „Lockerheit“ und „Routine“ b
 eim Fahren wünschen\, ohne dass die persönliche Sicherheit auf der „St
 recke“ bleibt\n\nWas möchten wir vermitteln?\nWas kannst Du mit nach Ha
 use nehmen?\nSicherer Umgang mit dem Motorrad\nauch oder gerade im Bereich
  „Schneckentempo“\nEinfache und praktische Hilfstechniken (bsp. Automa
 tismen)\, Tipps &amp\; Tricks aufgrund langjähriger Guide-Tätigkeit\ndas
  „A &amp\; O“ des sicheren Fahrens….die richtige Blickführung\nund.
 .. ein richtig gutes Gefühl\, das künftig alles leichter und schöner wi
 rd.\nMögliche zusätzliche Lerninhalte…\n\nAnfahren am Lenkanschlag\nKe
 hren fahren\nKurven fahren….aber sicher\nWenden auf engstem Raum (Lenkan
 schlag)\nRichtiges Rangieren und Ausbalancieren des Motorrads\nVollbremsun
 g (mit ABS)\nAusweichen vor Hindernissen\n\nWie gehen wir vor?\n\nWir tref
 fen uns nach vorheriger Absprache\nReden uns warm bei Kaffee oder Tee oder
  oder…\nDu erzählst was Du dir von dem Training erhoffst\nEventuell has
 t Du ja schon eine Idee was Du zusätzlich noch mitnehmen möchtest\nDann 
 legen wir gemeinsam die Schwerpunkte und deren Priorisierung fest\nIm Ansc
 hluß starten wir mit dem fahrerischen Teil…\ndieser „Start“ kann du
 rchaus erstmal auf einem großen Platz stattfinden um einige Übungen im L
 angsamfahrbereich zu trainieren\noder wir fahren direkt ins kurvige Geläu
 f….vielleicht hast Du ja auch eine Lieblingsstrecke auf der du üben mö
 chtest\n\nFahren - Feedback- Fahren - Feedback……\n\nWarum ausgerechnet
  bei uns…?\n\nLangjährige Motorrad“Erfahrung“\nlangjährige Instruk
 toren bei Offroad – und Sicherheitstrainings\nlangjährige Tourguides\nM
 ike ist seit über 12 Jahren als Berater / Trainer und Coach für Führung
 skräfte tätig\nVerständnis für Ängste und Unsicherheit und vor allem 
 jede Menge Geduld 😊\n\nInteresse geweckt ?  Ruf einfach an oder schick
  uns eine Mail.\n\nWir melden uns umgehend bei dir/euch
ATTACH;FMTTYPE=image/jpeg:https://www.heikesescapes.eu/wp-content/uploads/
 2020/03/20210522_150322-PANO-3-scaled.jpg
CATEGORIES:Fahrsicherheitstrainings,Ladys only Touren &amp;
 Trainings,Off-Road Trainings,Touren &amp; Events
LOCATION:individuell\, sonstiges\, Rodgau\, Hessen und darüber hinaus\, 63
 110\, Landkreis Offenbach\, Deutschland
GEO:50.017677;8.885339
X-APPLE-STRUCTURED-LOCATION;VALUE=URI;X-ADDRESS=sonstiges\, Rodgau\, Hessen
  und darüber hinaus\, 63110\, Landkreis Offenbach\, Deutschland;X-APPLE-R
 ADIUS=100;X-TITLE=individuell:geo:50.017677,8.885339
END:VEVENT
BEGIN:VTIMEZONE
TZID:Europe/Berlin
X-LIC-LOCATION:Europe/Berlin
BEGIN:STANDARD
DTSTART:20211031T020000
TZOFFSETFROM:+0200
TZOFFSETTO:+0100
TZNAME:CET
END:STANDARD
BEGIN:DAYLIGHT
DTSTART:20220327T030000
TZOFFSETFROM:+0100
TZOFFSETTO:+0200
TZNAME:CEST
END:DAYLIGHT
BEGIN:STANDARD
DTSTART:20221030T020000
TZOFFSETFROM:+0200
TZOFFSETTO:+0100
TZNAME:CET
END:STANDARD
END:VTIMEZONE
END:VCALENDAR